BEGIN:VCALENDAR
VERSION:2.0
PRODID:-//Botanica - ECPv6.15.20//NONSGML v1.0//EN
CALSCALE:GREGORIAN
METHOD:PUBLISH
X-WR-CALNAME:Botanica
X-ORIGINAL-URL:https://botanicacostarica.com
X-WR-CALDESC:Events for Botanica
REFRESH-INTERVAL;VALUE=DURATION:PT1H
X-Robots-Tag:noindex
X-PUBLISHED-TTL:PT1H
BEGIN:VTIMEZONE
TZID:UTC
BEGIN:STANDARD
TZOFFSETFROM:+0000
TZOFFSETTO:+0000
TZNAME:UTC
DTSTART:20240101T000000
END:STANDARD
END:VTIMEZONE
BEGIN:VEVENT
DTSTART;TZID=UTC:20251028T110000
DTEND;TZID=UTC:20251028T120000
DTSTAMP:20260422T235419
CREATED:20250918T223318Z
LAST-MODIFIED:20251013T200639Z
UID:1708-1761649200-1761652800@botanicacostarica.com
SUMMARY:Live MOLD free with Maxine Guzmán
DESCRIPTION:Yes\, mold is everywhere in the tropics but come to learn simple and easy ways to keep it from taking over you life\, health\, and home. \nTuesday\, October 28th 11:00 AM – 12:00 PM | IT’S FREE! \nRegister HERE or email botanicaojochal@gmail.com
URL:https://botanicacostarica.com/event/live-mold-free-with-maxine-guzman/
LOCATION:Botanica Costa Rica\, Villas Ojochal #2\, Ojochal\, Puntarenas\, Costa Rica
CATEGORIES:Health Session
ATTACH;FMTTYPE=image/png:https://botanicacostarica.com/wp-content/uploads/2025/09/Screenshot-2025-09-18-at-4.31.36-PM.png
END:VEVENT
END:VCALENDAR