BEGIN:VCALENDAR
VERSION:2.0
PRODID:-//Botanica - ECPv6.15.20//NONSGML v1.0//EN
CALSCALE:GREGORIAN
METHOD:PUBLISH
X-ORIGINAL-URL:https://botanicacostarica.com
X-WR-CALDESC:Events for Botanica
REFRESH-INTERVAL;VALUE=DURATION:PT1H
X-Robots-Tag:noindex
X-PUBLISHED-TTL:PT1H
BEGIN:VTIMEZONE
TZID:UTC
BEGIN:STANDARD
TZOFFSETFROM:+0000
TZOFFSETTO:+0000
TZNAME:UTC
DTSTART:20240101T000000
END:STANDARD
END:VTIMEZONE
BEGIN:VEVENT
DTSTART;TZID=UTC:20251105T110000
DTEND;TZID=UTC:20251105T120000
DTSTAMP:20260422T235411
CREATED:20251109T181356Z
LAST-MODIFIED:20251109T183032Z
UID:1961-1762340400-1762344000@botanicacostarica.com
SUMMARY:Dogon Herbs I Cleansing for New Cycles
DESCRIPTION:Step into the ancestral healing through Dogon-preserved Ancient Egyptian herbal wisdom from West Africa\, with herbal samples and a focus on community wellness. Discover the principles of healing\, with herbal samplings offered. Open to all. \nNovember 5th\, 11am – 12pm \nDonation Based \n 
URL:https://botanicacostarica.com/event/dogon-herbs-i-cleansing-for-new-cycles/
LOCATION:Botanica Costa Rica\, Villas Ojochal #2\, Ojochal\, Puntarenas\, Costa Rica
CATEGORIES:Health Session
ATTACH;FMTTYPE=image/png:https://botanicacostarica.com/wp-content/uploads/2025/11/Untitled-design-15.png
END:VEVENT
END:VCALENDAR