BEGIN:VCALENDAR
VERSION:2.0
PRODID:-//Botanica - ECPv6.15.20//NONSGML v1.0//EN
CALSCALE:GREGORIAN
METHOD:PUBLISH
X-ORIGINAL-URL:https://botanicacostarica.com
X-WR-CALDESC:Events for Botanica
REFRESH-INTERVAL;VALUE=DURATION:PT1H
X-Robots-Tag:noindex
X-PUBLISHED-TTL:PT1H
BEGIN:VTIMEZONE
TZID:UTC
BEGIN:STANDARD
TZOFFSETFROM:+0000
TZOFFSETTO:+0000
TZNAME:UTC
DTSTART:20240101T000000
END:STANDARD
END:VTIMEZONE
BEGIN:VEVENT
DTSTART;TZID=UTC:20251119T100000
DTEND;TZID=UTC:20251119T110000
DTSTAMP:20260422T235409
CREATED:20251111T165936Z
LAST-MODIFIED:20251111T170022Z
UID:1986-1763546400-1763550000@botanicacostarica.com
SUMMARY:Live MOLD free with Maxine Guzmán
DESCRIPTION:Yes\, mold is everywhere in the tropics but come to learn simple and easy ways to keep it from taking over your life\, health\, and home. \nWednesday\, November 19th 10:00 – 11:00 AM | Donation Based! \nRegister HERE or email botanicaojochal@gmail.com
URL:https://botanicacostarica.com/event/live-mold-free-with-maxine-guzman-november/
LOCATION:Botanica Costa Rica\, Villas Ojochal #2\, Ojochal\, Puntarenas\, Costa Rica
CATEGORIES:Health Session
ATTACH;FMTTYPE=image/png:https://botanicacostarica.com/wp-content/uploads/2025/11/November-18th-3-4-PM-12-per-person-Register-HERE-or-email-botanicaojochal@gmail.com_-1.png
END:VEVENT
END:VCALENDAR