BEGIN:VCALENDAR
VERSION:2.0
PRODID:-//Botanica - ECPv6.15.20//NONSGML v1.0//EN
CALSCALE:GREGORIAN
METHOD:PUBLISH
X-WR-CALNAME:Botanica
X-ORIGINAL-URL:https://botanicacostarica.com
X-WR-CALDESC:Events for Botanica
REFRESH-INTERVAL;VALUE=DURATION:PT1H
X-Robots-Tag:noindex
X-PUBLISHED-TTL:PT1H
BEGIN:VTIMEZONE
TZID:UTC
BEGIN:STANDARD
TZOFFSETFROM:+0000
TZOFFSETTO:+0000
TZNAME:UTC
DTSTART:20250101T000000
END:STANDARD
END:VTIMEZONE
BEGIN:VEVENT
DTSTART;TZID=UTC:20260122T150000
DTEND;TZID=UTC:20260122T163000
DTSTAMP:20260422T202942
CREATED:20260102T220440Z
LAST-MODIFIED:20260102T220440Z
UID:2510-1769094000-1769099400@botanicacostarica.com
SUMMARY:Microdosing 101 Workshop | with Gabo
DESCRIPTION:We will explore how our ancestors used it and understand its current role as an undeniably powerful tool for mental\, physical\, and spiritual well-being when approached with intention and responsibility. \nThursday\, January 22nd 3-4:30 PM \n$10 nationals – $15 foreigners \nRegister HERE or email botanicaojochal@gmail.com
URL:https://botanicacostarica.com/event/microdosing-101-workshop-with-gabo/
LOCATION:Botanica Costa Rica\, Villas Ojochal #2\, Ojochal\, Puntarenas\, Costa Rica
CATEGORIES:Workshop
ATTACH;FMTTYPE=image/png:https://botanicacostarica.com/wp-content/uploads/2026/01/botanica-december.png
END:VEVENT
END:VCALENDAR