BEGIN:VCALENDAR
VERSION:2.0
PRODID:-//Botanica - ECPv6.15.20//NONSGML v1.0//EN
CALSCALE:GREGORIAN
METHOD:PUBLISH
X-ORIGINAL-URL:https://botanicacostarica.com
X-WR-CALDESC:Events for Botanica
REFRESH-INTERVAL;VALUE=DURATION:PT1H
X-Robots-Tag:noindex
X-PUBLISHED-TTL:PT1H
BEGIN:VTIMEZONE
TZID:UTC
BEGIN:STANDARD
TZOFFSETFROM:+0000
TZOFFSETTO:+0000
TZNAME:UTC
DTSTART:20250101T000000
END:STANDARD
END:VTIMEZONE
BEGIN:VEVENT
DTSTART;TZID=UTC:20260416T100000
DTEND;TZID=UTC:20260416T230000
DTSTAMP:20260422T153336
CREATED:20260402T053511Z
LAST-MODIFIED:20260402T173345Z
UID:4160-1776333600-1776380400@botanicacostarica.com
SUMMARY:Intro to Seed Cycling | Luiza
DESCRIPTION:Discover how specific nature’s seeds can gently support your hormonal balance by producing & metabolizing estrogen and progesterone\, promoting a cycle that feels more regular\, easeful\, and aligned. \nThursday\, April 16th 10:00 – 11:00 PM | $30 foreigner $15 national \nRegister HERE or email botanicaojochal@gmail.com
URL:https://botanicacostarica.com/event/intro-to-seed-cycling-luiza/
LOCATION:Botanica Costa Rica\, Villas Ojochal #2\, Ojochal\, Puntarenas\, Costa Rica
CATEGORIES:Health Session,Workshop
ATTACH;FMTTYPE=image/png:https://botanicacostarica.com/wp-content/uploads/2026/04/Screenshot-2026-04-01-at-11.25.55-PM.png
END:VEVENT
BEGIN:VEVENT
DTSTART;TZID=UTC:20260416T160000
DTEND;TZID=UTC:20260416T180000
DTSTAMP:20260422T153336
CREATED:20260402T060202Z
LAST-MODIFIED:20260402T060202Z
UID:4184-1776355200-1776362400@botanicacostarica.com
SUMMARY:Weekly Tarot Readings | The Archtypal Heroic Journey w/ Carolina
DESCRIPTION:Evolutionary\, therapeutic\, tarot readings that reveal your archetypes\, illuminate your process\, and offer resolution and healing. \nEvery Thursday | 4 – 6 PM \nDrop-ins or by appointment\, preferably. Sliding scale depending on spread from $50 usd to $80 for a full spread lasting 1.5 hrs. \nCarolina is also offering readings by appointment on any other days. \nRegister HERE or email botanicaojochal@gmail.com
URL:https://botanicacostarica.com/event/weekly-tarot-readings-the-archtypal-heroic-journey-w-carolina-7/
LOCATION:Botanica Costa Rica\, Villas Ojochal #2\, Ojochal\, Puntarenas\, Costa Rica
CATEGORIES:Tarot
ATTACH;FMTTYPE=image/png:https://botanicacostarica.com/wp-content/uploads/2026/02/botanica-december-3-1.png
END:VEVENT
END:VCALENDAR