BEGIN:VCALENDAR
VERSION:2.0
PRODID:-//Botanica - ECPv6.15.20//NONSGML v1.0//EN
CALSCALE:GREGORIAN
METHOD:PUBLISH
X-WR-CALNAME:Botanica
X-ORIGINAL-URL:https://botanicacostarica.com
X-WR-CALDESC:Events for Botanica
REFRESH-INTERVAL;VALUE=DURATION:PT1H
X-Robots-Tag:noindex
X-PUBLISHED-TTL:PT1H
BEGIN:VTIMEZONE
TZID:UTC
BEGIN:STANDARD
TZOFFSETFROM:+0000
TZOFFSETTO:+0000
TZNAME:UTC
DTSTART:20250101T000000
END:STANDARD
END:VTIMEZONE
BEGIN:VEVENT
DTSTART;TZID=UTC:20260424T100000
DTEND;TZID=UTC:20260424T130000
DTSTAMP:20260422T153308
CREATED:20260402T185053Z
LAST-MODIFIED:20260402T185202Z
UID:4208-1777024800-1777035600@botanicacostarica.com
SUMMARY:Female Reproductive Health | Sarah Wu
DESCRIPTION:Explore the different phases and needs of a woman ´s life and the herbs and mushrooms that best support our needs. \n$60 class or $50 class if you sign up for the complete series \nFriday\, April 24th | 10AM – 1 PM \nRegister HERE or email botanicaojochal@gmail.com
URL:https://botanicacostarica.com/event/female-reproductive-health-sarah-wu/
LOCATION:Puntarenas
CATEGORIES:Health Session,Series,Workshop
ATTACH;FMTTYPE=image/png:https://botanicacostarica.com/wp-content/uploads/2026/03/sarah-wu.png
END:VEVENT
BEGIN:VEVENT
DTSTART;TZID=UTC:20260424T100000
DTEND;TZID=UTC:20260424T130000
DTSTAMP:20260422T153308
CREATED:20260402T191155Z
LAST-MODIFIED:20260402T191155Z
UID:4210-1777024800-1777035600@botanicacostarica.com
SUMMARY:Ayurvedic Digestion | Luiza
DESCRIPTION:Prepare a traditional Ayurvedic meal together\, learn about spices and food combinations\, while exploring common digestive symptoms—like gas\, bloating\, acidity\, and low energy—and how to ease them through the way you cook and combine foods. \nFriday\, April 24th | 10 AM – 1 PM | $50 per person \nRegister HERE or email botanicaojochal@gmail.com
URL:https://botanicacostarica.com/event/ayurvedic-digestion-luiza/
LOCATION:Puntarenas
CATEGORIES:Health Session,Workshop
ATTACH;FMTTYPE=image/png:https://botanicacostarica.com/wp-content/uploads/2026/04/ayurveda-botanica-ojochal.png
END:VEVENT
END:VCALENDAR