BEGIN:VCALENDAR
VERSION:2.0
PRODID:-//Botanica - ECPv6.15.20//NONSGML v1.0//EN
CALSCALE:GREGORIAN
METHOD:PUBLISH
X-ORIGINAL-URL:https://botanicacostarica.com
X-WR-CALDESC:Events for Botanica
REFRESH-INTERVAL;VALUE=DURATION:PT1H
X-Robots-Tag:noindex
X-PUBLISHED-TTL:PT1H
BEGIN:VTIMEZONE
TZID:UTC
BEGIN:STANDARD
TZOFFSETFROM:+0000
TZOFFSETTO:+0000
TZNAME:UTC
DTSTART:20250101T000000
END:STANDARD
END:VTIMEZONE
BEGIN:VEVENT
DTSTART;TZID=UTC:20260228T090000
DTEND;TZID=UTC:20260228T113000
DTSTAMP:20260420T213740
CREATED:20260202T205514Z
LAST-MODIFIED:20260202T205514Z
UID:3981-1772269200-1772278200@botanicacostarica.com
SUMMARY:Elemental Herbalism | Amanda
DESCRIPTION:Join us for an experiential herbal education offering that reconnects participants with the elements and the plants through hands-on medicine making\, ritual\, and embodiment. \nFriday\, Feb 28th | 9:00 AM – 11:30 PM \n$60 / class or $200 the whole series (4x) \nRegister HERE or email botanicaojochal@gmail.com
URL:https://botanicacostarica.com/event/elemental-herbalism/
LOCATION:Botanica Costa Rica\, Villas Ojochal #2\, Ojochal\, Puntarenas\, Costa Rica
CATEGORIES:Health Session,Series,Workshop
ATTACH;FMTTYPE=image/png:https://botanicacostarica.com/wp-content/uploads/2026/02/Screenshot-2026-02-02-at-2.51.54-PM.png
END:VEVENT
END:VCALENDAR