BEGIN:VCALENDAR
VERSION:2.0
PRODID:-//Botanica - ECPv6.15.20//NONSGML v1.0//EN
CALSCALE:GREGORIAN
METHOD:PUBLISH
X-WR-CALNAME:Botanica
X-ORIGINAL-URL:https://botanicacostarica.com
X-WR-CALDESC:Events for Botanica
REFRESH-INTERVAL;VALUE=DURATION:PT1H
X-Robots-Tag:noindex
X-PUBLISHED-TTL:PT1H
BEGIN:VTIMEZONE
TZID:UTC
BEGIN:STANDARD
TZOFFSETFROM:+0000
TZOFFSETTO:+0000
TZNAME:UTC
DTSTART:20240101T000000
END:STANDARD
END:VTIMEZONE
BEGIN:VEVENT
DTSTART;TZID=UTC:20260211T083000
DTEND;TZID=UTC:20260211T100000
DTSTAMP:20260422T221352
CREATED:20260202T194231Z
LAST-MODIFIED:20260202T204602Z
UID:3952-1770798600-1770804000@botanicacostarica.com
SUMMARY:A Kundalini Yoga & Sound Journey with Rita
DESCRIPTION:Join us for a harmonious blend of asana\, breathwork\, mantra\, meditation\, and energy practices\, designed as a guided journey to reconnect you with your inner wisdom and natural flow. \nFree \nWednesday\, Feb 11th | 8:30-10 AM \nRegister HERE or email botanicaojochal@gmail.com
URL:https://botanicacostarica.com/event/a-kundalini-yoga-sound-journey-rita/
LOCATION:Botanica Costa Rica\, Villas Ojochal #2\, Ojochal\, Puntarenas\, Costa Rica
CATEGORIES:Breathwork,Health Session,Sound Journey,Workshop
ATTACH;FMTTYPE=image/png:https://botanicacostarica.com/wp-content/uploads/2026/02/sound-journey-breathwork-rita.png
END:VEVENT
BEGIN:VEVENT
DTSTART;TZID=UTC:20260210T140000
DTEND;TZID=UTC:20260210T150000
DTSTAMP:20260422T221352
CREATED:20260202T193417Z
LAST-MODIFIED:20260202T193417Z
UID:3947-1770732000-1770735600@botanicacostarica.com
SUMMARY:Floral Bouquet | Gaia's Legacy I Raices Herbolaria
DESCRIPTION:Come and create with your own hands a floral bouquet and may these plants protect your light as much as you illuminate the lives of others. \n$15 per person \nTuesday\, Feb 10th | 2-3 PM \nRegister HERE or email botanicaojochal@gmail.com
URL:https://botanicacostarica.com/event/floral-bouquet-raices-herbolaria/
LOCATION:Botanica Costa Rica\, Villas Ojochal #2\, Ojochal\, Puntarenas\, Costa Rica
CATEGORIES:Arts and Crafts,Workshop
ATTACH;FMTTYPE=image/png:https://botanicacostarica.com/wp-content/uploads/2026/02/floral-bouquet.png
END:VEVENT
BEGIN:VEVENT
DTSTART;TZID=UTC:20260210T100000
DTEND;TZID=UTC:20260210T120000
DTSTAMP:20260422T221352
CREATED:20260203T181224Z
LAST-MODIFIED:20260203T181403Z
UID:3988-1770717600-1770724800@botanicacostarica.com
SUMMARY:Weekly Holistic Nutrition Consultations
DESCRIPTION:Free weekly holistic nutrition consultations with in-house nutritionist Anna McMahon\, CNP \nLooking for personalized support on your health journey? Receive a free 15-minute consultation on nutrition\, lifestyle\, and herbal insights tailored to your needs and health goals. \nEvery Tuesday | 10:00 AM – 12:00 PM \nFREE \nRegister HERE or email botanicaojochal@gmail.com
URL:https://botanicacostarica.com/event/weekly-holistic-nutrition-consultations-copy/
LOCATION:Botanica Costa Rica\, Villas Ojochal #2\, Ojochal\, Puntarenas\, Costa Rica
CATEGORIES:Health Session
ATTACH;FMTTYPE=image/png:https://botanicacostarica.com/wp-content/uploads/2026/02/botanica-december-3.png
END:VEVENT
BEGIN:VEVENT
DTSTART;TZID=UTC:20260207T090000
DTEND;TZID=UTC:20260207T110000
DTSTAMP:20260422T221352
CREATED:20260202T192747Z
LAST-MODIFIED:20260202T195533Z
UID:3943-1770454800-1770462000@botanicacostarica.com
SUMMARY:Biodynamic Trauma Release Breathwork I Amrita
DESCRIPTION:Come and make space for clarity\, inspiration and movement forward. Biodynamic Trauma Release Breathwork combines connected breath\, movement\, spinal unwinding\, music\, and meditation to release emotional pain trapped in the body. \n$20 per person \nSaturday\, Feb 7th | 9-11 AM \nRegister HERE or email botanicaojochal@gmail.com
URL:https://botanicacostarica.com/event/biodynamic-trauma-release-breathwork-amrita/
LOCATION:Botanica Costa Rica\, Villas Ojochal #2\, Ojochal\, Puntarenas\, Costa Rica
CATEGORIES:Breathwork,Health Session,Movement and Exercise,Workshop
ATTACH;FMTTYPE=image/png:https://botanicacostarica.com/wp-content/uploads/2026/02/trauma-release-amrita.png
END:VEVENT
BEGIN:VEVENT
DTSTART;TZID=UTC:20260205T160000
DTEND;TZID=UTC:20260205T180000
DTSTAMP:20260422T221352
CREATED:20260203T183244Z
LAST-MODIFIED:20260203T185717Z
UID:3996-1770307200-1770314400@botanicacostarica.com
SUMMARY:Weekly Tarot Readings | The Archtypal Heroic Journey w/ Carolina
DESCRIPTION:Evolutionary\, therapeutic\, tarot readings that reveal your archetypes\, illuminate your process\, and offer resolution and healing. \nEvery Thursday | 4 – 6 PM \n$20 per person \nRegister HERE or email botanicaojochal@gmail.com
URL:https://botanicacostarica.com/event/weekly-tarot-readings/
LOCATION:Botanica Costa Rica\, Villas Ojochal #2\, Ojochal\, Puntarenas\, Costa Rica
ATTACH;FMTTYPE=image/png:https://botanicacostarica.com/wp-content/uploads/2026/02/botanica-december-3-1.png
END:VEVENT
BEGIN:VEVENT
DTSTART;TZID=UTC:20260203T100000
DTEND;TZID=UTC:20260203T120000
DTSTAMP:20260422T221352
CREATED:20260203T181038Z
LAST-MODIFIED:20260203T181334Z
UID:3985-1770112800-1770120000@botanicacostarica.com
SUMMARY:Weekly Holistic Nutrition Consultations
DESCRIPTION:Free weekly holistic nutrition consultations with in-house nutritionist Anna McMahon\, CNP \nLooking for personalized support on your health journey? Receive a free 15-minute consultation on nutrition\, lifestyle\, and herbal insights tailored to your needs and health goals. \nEvery Tuesday | 10:00 AM – 12:00 PM \nFREE \nRegister HERE or email botanicaojochal@gmail.com
URL:https://botanicacostarica.com/event/holistic-nutrition-consultations/
LOCATION:Botanica Costa Rica\, Villas Ojochal #2\, Ojochal\, Puntarenas\, Costa Rica
CATEGORIES:Health Session
ATTACH;FMTTYPE=image/png:https://botanicacostarica.com/wp-content/uploads/2026/02/botanica-december-3.png
END:VEVENT
BEGIN:VEVENT
DTSTART;TZID=UTC:20260128T080000
DTEND;TZID=UTC:20260128T100000
DTSTAMP:20260422T221352
CREATED:20260102T222943Z
LAST-MODIFIED:20260102T222943Z
UID:2520-1769587200-1769594400@botanicacostarica.com
SUMMARY:Digestive Health and Detox Pathways - Sarah Wu
DESCRIPTION:Herbs for detoxification and elimination\, as well as assistance in anti-parasitic protocols. \n$40 per person \nWednesday\, January 28th | 8-10AM \nRegister HERE or email botanicaojochal@gmail.com
URL:https://botanicacostarica.com/event/digestive-health/
LOCATION:Botanica Costa Rica\, Villas Ojochal #2\, Ojochal\, Puntarenas\, Costa Rica
CATEGORIES:Health Session,Workshop
ATTACH;FMTTYPE=image/png:https://botanicacostarica.com/wp-content/uploads/2025/12/16.png
END:VEVENT
BEGIN:VEVENT
DTSTART;TZID=UTC:20260127T110000
DTEND;TZID=UTC:20260127T120000
DTSTAMP:20260422T221352
CREATED:20260102T222508Z
LAST-MODIFIED:20260104T001310Z
UID:2518-1769511600-1769515200@botanicacostarica.com
SUMMARY:Live MOLD FREE with Maxine Guzmán
DESCRIPTION:Yes\, mold is everywhere in the tropics but come to learn simple and easy ways to keep it from taking over your life\, health\, and home. \nTuesday\, January 27th 11:00 – 12:00 AM | Donation Based! \nRegister HERE or email botanicaojochal@gmail.com
URL:https://botanicacostarica.com/event/live-mold-free-with-maxine-guzman-january/
LOCATION:Botanica Costa Rica\, Villas Ojochal #2\, Ojochal\, Puntarenas\, Costa Rica
CATEGORIES:Health Session
ATTACH;FMTTYPE=image/png:https://botanicacostarica.com/wp-content/uploads/2025/11/November-18th-3-4-PM-12-per-person-Register-HERE-or-email-botanicaojochal@gmail.com_-1.png
END:VEVENT
BEGIN:VEVENT
DTSTART;TZID=UTC:20260123T143000
DTEND;TZID=UTC:20260123T163000
DTSTAMP:20260422T221352
CREATED:20260102T221829Z
LAST-MODIFIED:20260102T221829Z
UID:2515-1769178600-1769185800@botanicacostarica.com
SUMMARY:Poetry Afternoon w/ Lismar
DESCRIPTION:A soulful workshop embracing the heart’s power inspiration where we’ll explore healing tools for opening the heart and create poetry that nurtures\, loves & inspires. \nJanuary 23rd\, 2:30 – 4:30 PM \n$15 per person \nRegister HERE or email botanicaojochal@gmail.com
URL:https://botanicacostarica.com/event/poetry-afternoon-w-lismar/
LOCATION:Botanica Costa Rica\, Villas Ojochal #2\, Ojochal\, Puntarenas\, Costa Rica
CATEGORIES:Workshop
ATTACH;FMTTYPE=image/png:https://botanicacostarica.com/wp-content/uploads/2025/11/botanica-november-1.png
END:VEVENT
BEGIN:VEVENT
DTSTART;TZID=UTC:20260122T150000
DTEND;TZID=UTC:20260122T163000
DTSTAMP:20260422T221352
CREATED:20260102T220440Z
LAST-MODIFIED:20260102T220440Z
UID:2510-1769094000-1769099400@botanicacostarica.com
SUMMARY:Microdosing 101 Workshop | with Gabo
DESCRIPTION:We will explore how our ancestors used it and understand its current role as an undeniably powerful tool for mental\, physical\, and spiritual well-being when approached with intention and responsibility. \nThursday\, January 22nd 3-4:30 PM \n$10 nationals – $15 foreigners \nRegister HERE or email botanicaojochal@gmail.com
URL:https://botanicacostarica.com/event/microdosing-101-workshop-with-gabo/
LOCATION:Botanica Costa Rica\, Villas Ojochal #2\, Ojochal\, Puntarenas\, Costa Rica
CATEGORIES:Workshop
ATTACH;FMTTYPE=image/png:https://botanicacostarica.com/wp-content/uploads/2026/01/botanica-december.png
END:VEVENT
BEGIN:VEVENT
DTSTART;TZID=UTC:20260121T150000
DTEND;TZID=UTC:20260121T160000
DTSTAMP:20260422T221352
CREATED:20260102T215508Z
LAST-MODIFIED:20260102T215508Z
UID:2508-1769007600-1769011200@botanicacostarica.com
SUMMARY:Epigenetics of Healing I Santiago Rafael
DESCRIPTION:Discover physical and metaphysical keys to elevate your quality of life. \nWednesday\, January 21st 3-4 PM \n$10 nationals / $16 foreigners \nRegister HERE or email botanicaojochal@gmail.com
URL:https://botanicacostarica.com/event/epigenetics-of-healing-i-santiago-rafael/
LOCATION:Botanica Costa Rica\, Villas Ojochal #2\, Ojochal\, Puntarenas\, Costa Rica
CATEGORIES:Health Session
ATTACH;FMTTYPE=image/png:https://botanicacostarica.com/wp-content/uploads/2025/12/20.png
END:VEVENT
BEGIN:VEVENT
DTSTART;TZID=UTC:20260120T140000
DTEND;TZID=UTC:20260120T150000
DTSTAMP:20260422T221352
CREATED:20260102T214618Z
LAST-MODIFIED:20260102T220854Z
UID:2505-1768917600-1768921200@botanicacostarica.com
SUMMARY:Sound Journey with Rosalee
DESCRIPTION:Rest and receive the healing frequencies of singing bowls\, chimes\, gong\, and the voice on this journey through sound; nurturing the mind\, body\, spirit and nervous system. \nTuesday\, January 20th\, 2-3 PM \n $15 nationals / $20 foreigners \nRegister HERE or email botanicaojochal@gmail.com
URL:https://botanicacostarica.com/event/sound-journey-with-rosalee/
LOCATION:Botanica Costa Rica\, Villas Ojochal #2\, Ojochal\, Puntarenas\, Costa Rica
CATEGORIES:Health Session
ATTACH;FMTTYPE=image/png:https://botanicacostarica.com/wp-content/uploads/2026/01/botanica-ojochal-sound-bath.png
END:VEVENT
BEGIN:VEVENT
DTSTART;TZID=UTC:20260116T043000
DTEND;TZID=UTC:20260116T180000
DTSTAMP:20260422T221352
CREATED:20260102T213048Z
LAST-MODIFIED:20260102T213048Z
UID:2501-1768537800-1768586400@botanicacostarica.com
SUMMARY:The Mysto Magic Show | Mitchel
DESCRIPTION:Master Magician\, Mystobthe Magi will astound\, amaze and amuse you and your family in this fun filled show. \nFriday\, January 16th 4:30 – 6:00 PM \nDonation Based \nRegister HERE or email botanicaojochal@gmail.com
URL:https://botanicacostarica.com/event/the-mysto-magic-show-mitchel/
LOCATION:Puntarenas
CATEGORIES:Arts and Crafts,Series,Workshop
ATTACH;FMTTYPE=image/png:https://botanicacostarica.com/wp-content/uploads/2026/01/botanica-magic-show.png
END:VEVENT
BEGIN:VEVENT
DTSTART;TZID=UTC:20260115T103000
DTEND;TZID=UTC:20260115T120000
DTSTAMP:20260422T221352
CREATED:20260102T193637Z
LAST-MODIFIED:20260102T215135Z
UID:2498-1768473000-1768478400@botanicacostarica.com
SUMMARY:The Art of Health and Happiness | Tibetan Medicine
DESCRIPTION:Orameh Bagheri for an introductory talk about Sowa Rigpa. Learn about pulse reading\, energetic\, lifestyle\, herbal consultations and body therapies. Let ´s deepen. \nThursday\, January 15th\, 10:30 AM – 12 PM \n$15 nationals / $20 foreigners \nRegister HERE or email botanicaojochal@gmail.com
URL:https://botanicacostarica.com/event/the-art-of-health-and-happiness-tibetan-medicine/
LOCATION:Botanica Costa Rica\, Villas Ojochal #2\, Ojochal\, Puntarenas\, Costa Rica
CATEGORIES:Workshop
ATTACH;FMTTYPE=image/png:https://botanicacostarica.com/wp-content/uploads/2026/01/botanica-tibetan-medicine.png
END:VEVENT
BEGIN:VEVENT
DTSTART;TZID=UTC:20260113T100000
DTEND;TZID=UTC:20260113T230000
DTSTAMP:20260422T221352
CREATED:20260102T180852Z
LAST-MODIFIED:20260102T214839Z
UID:2493-1768298400-1768345200@botanicacostarica.com
SUMMARY:Increase Sensuality and Blissful Birthing
DESCRIPTION:This program is a deeply feminine journey designed to help women release fear of pain\, expand their capacity for pleasure\, and reconnect with the body’s natural wisdom. \n$15 Nationals / $20 for Foreigners \nTuesday\, January 13th 10-11AM \nRegister HERE or email botanicaojochal@gmail.com \n  \n 
URL:https://botanicacostarica.com/event/increase-sensuality-and-blissful-birthing/
LOCATION:Botanica Costa Rica\, Villas Ojochal #2\, Ojochal\, Puntarenas\, Costa Rica
CATEGORIES:Workshop
ATTACH;FMTTYPE=image/png:https://botanicacostarica.com/wp-content/uploads/2026/01/botanica-january-blissful-birthing.png
END:VEVENT
BEGIN:VEVENT
DTSTART;TZID=UTC:20260108T160000
DTEND;TZID=UTC:20260108T170000
DTSTAMP:20260422T221352
CREATED:20260102T180442Z
LAST-MODIFIED:20260102T221541Z
UID:2490-1767888000-1767891600@botanicacostarica.com
SUMMARY:The Story Behind "Hierba Mate" w/ Laura Duflos
DESCRIPTION:Join us for a hands-on session exploring the origins of yerba mate\, its traditional uses\, health benefits\, and how to blend it with other herbs. \n\n\n\nThursday\, January 8th 4:00 PM – 5:00 PM | $15 \n\n\n\nRegister HERE or email botanicaojochal@gmail.com
URL:https://botanicacostarica.com/event/the-story-behind-hierba-mate-w-laura-duflos-january/
LOCATION:Botanica Costa Rica\, Villas Ojochal #2\, Ojochal\, Puntarenas\, Costa Rica
CATEGORIES:Food and Beverage,Workshop
ATTACH;FMTTYPE=image/png:https://botanicacostarica.com/wp-content/uploads/2026/01/botanica-december-1.png
END:VEVENT
BEGIN:VEVENT
DTSTART;TZID=UTC:20251222T140000
DTEND;TZID=UTC:20251222T170000
DTSTAMP:20260422T221352
CREATED:20251205T184512Z
LAST-MODIFIED:20251205T184512Z
UID:2239-1766412000-1766422800@botanicacostarica.com
SUMMARY:Everything about Cacao I Blanca Margarita
DESCRIPTION:Learn about the medicinal\, spiritual\, and culinary uses of this sacred plant\, and craft your own chocolate bar with a variety of flavors and natural inclusions. \nMonday\, December 22nd | 2-5PM \n$40 nationals / $60 foreigners \nRegister HERE or email botanicaojochal@gmail.com
URL:https://botanicacostarica.com/event/everything-about-cacao-i-blanca-margarita/
LOCATION:Puntarenas
CATEGORIES:Food and Beverage,Health Session,Workshop
ATTACH;FMTTYPE=image/png:https://botanicacostarica.com/wp-content/uploads/2025/12/21.png
END:VEVENT
BEGIN:VEVENT
DTSTART;TZID=UTC:20251218T150000
DTEND;TZID=UTC:20251218T160000
DTSTAMP:20260422T221352
CREATED:20251205T184015Z
LAST-MODIFIED:20251205T184015Z
UID:2233-1766070000-1766073600@botanicacostarica.com
SUMMARY:Epigenetics of Healing | Santiago Rafael
DESCRIPTION:Discover physical and metaphysical keys to elevate your quality of life. \nFREE! \nThursday\, December 18th 3-4PM \nRegister HERE or email botanicaojochal@gmail.com
URL:https://botanicacostarica.com/event/epigenetics-of-healing-santiago-rafael/
LOCATION:Botanica Costa Rica\, Villas Ojochal #2\, Ojochal\, Puntarenas\, Costa Rica
CATEGORIES:Workshop
ATTACH;FMTTYPE=image/png:https://botanicacostarica.com/wp-content/uploads/2025/12/20.png
END:VEVENT
BEGIN:VEVENT
DTSTART;TZID=UTC:20251217T143000
DTEND;TZID=UTC:20251217T163000
DTSTAMP:20260422T221352
CREATED:20251205T184222Z
LAST-MODIFIED:20251205T184222Z
UID:2237-1765981800-1765989000@botanicacostarica.com
SUMMARY:Poetry Afternoon with Lismar
DESCRIPTION:A soulful workshop embracing the heart’s power inspiration where we’ll explore healing tools for opening the heart and create poetry that nurtures\, loves & inspires. \nDecember 17th\, 2:30-4:30 PM | $15 per person \nRegister HERE or email botanicaojochal@gmail.com
URL:https://botanicacostarica.com/event/poetry-afternoon-with-lismar-2/
LOCATION:Botanica Costa Rica\, Villas Ojochal #2\, Ojochal\, Puntarenas\, Costa Rica
CATEGORIES:Workshop
ATTACH;FMTTYPE=image/png:https://botanicacostarica.com/wp-content/uploads/2025/11/botanica-november-1.png
END:VEVENT
BEGIN:VEVENT
DTSTART;TZID=UTC:20251216T103000
DTEND;TZID=UTC:20251216T113000
DTSTAMP:20260422T221352
CREATED:20251205T183548Z
LAST-MODIFIED:20251205T183548Z
UID:2231-1765881000-1765884600@botanicacostarica.com
SUMMARY:Awakening Sensuality & Preparation for Orgasmic Birth
DESCRIPTION:This program is a deeply feminine journey designed to help women release fear of pain\, expand their capacity for pleasure\, and reconnect with the body’s natural wisdom. \n$10 nationals / $16 foreigners \nTuesday\, December 16th | 10:30-11:30AM \nRegister HERE or email botanicaojochal@gmail.com
URL:https://botanicacostarica.com/event/awakening-sensuality-preparation-for-orgasmic-birth/
LOCATION:Botanica Costa Rica\, Villas Ojochal #2\, Ojochal\, Puntarenas\, Costa Rica
CATEGORIES:Workshop
ATTACH;FMTTYPE=image/png:https://botanicacostarica.com/wp-content/uploads/2025/12/19.png
END:VEVENT
BEGIN:VEVENT
DTSTART;TZID=UTC:20251215T140000
DTEND;TZID=UTC:20251215T160000
DTSTAMP:20260422T221352
CREATED:20251205T183121Z
LAST-MODIFIED:20251205T183121Z
UID:2229-1765807200-1765814400@botanicacostarica.com
SUMMARY:Alma Del Bosque | Xmas Handmade Ornaments
DESCRIPTION:Join us for a special DIY Christmas Amulet making afternoon! Suitable for your home and beautiful ornaments for Christmas tree with Raices Herbolaria \nMonday\, December 15th | 2-4PM \n$15 nationals / $20 foreigners \nRegister HERE or email botanicaojochal@gmail.com
URL:https://botanicacostarica.com/event/alma-del-bosque-xmas-handmade-ornaments/
LOCATION:Puntarenas
CATEGORIES:Arts and Crafts
ATTACH;FMTTYPE=image/png:https://botanicacostarica.com/wp-content/uploads/2025/12/18.png
END:VEVENT
BEGIN:VEVENT
DTSTART;TZID=UTC:20251213T100000
DTEND;TZID=UTC:20251213T110000
DTSTAMP:20260422T221352
CREATED:20251205T182406Z
LAST-MODIFIED:20251205T182406Z
UID:2227-1765620000-1765623600@botanicacostarica.com
SUMMARY:The Nervous System | Sarah Franklin
DESCRIPTION:Reset the mind body connection and strengthen it once you know where weakness lies. Learn about the defensive states of the nervous system and how to actually strengthen and improve it with Neuro Reset Technique. Unlock your full potential. \nFree! \nSaturday\, December 13th | 10-11AM \nRegister HERE or email botanicaojochal@gmail.com
URL:https://botanicacostarica.com/event/the-nervous-system-sarah-franklin/
LOCATION:Botanica Costa Rica\, Villas Ojochal #2\, Ojochal\, Puntarenas\, Costa Rica
CATEGORIES:Health Session,Workshop
ATTACH;FMTTYPE=image/png:https://botanicacostarica.com/wp-content/uploads/2025/12/17.png
END:VEVENT
BEGIN:VEVENT
DTSTART;TZID=UTC:20251210T090000
DTEND;TZID=UTC:20251210T120000
DTSTAMP:20260422T221352
CREATED:20251205T182035Z
LAST-MODIFIED:20251205T182035Z
UID:2225-1765357200-1765368000@botanicacostarica.com
SUMMARY:Herbal Energetics | Sarah Wu
DESCRIPTION:Assess and understand the dynamics of the plants and their correspondences to the elements. \n$60/class or $50/class if you sign up for all 9 in the series \nDecember 10th\, 9AM-12PM \nRegister HERE or email botanicaojochal@gmail.com
URL:https://botanicacostarica.com/event/herbal-energetics-sarah-wu-2/
LOCATION:Botanica Costa Rica\, Villas Ojochal #2\, Ojochal\, Puntarenas\, Costa Rica
CATEGORIES:Health Session,Series,Workshop
ATTACH;FMTTYPE=image/png:https://botanicacostarica.com/wp-content/uploads/2025/12/16.png
END:VEVENT
BEGIN:VEVENT
DTSTART;TZID=UTC:20251209T100000
DTEND;TZID=UTC:20251209T110000
DTSTAMP:20260422T221352
CREATED:20251204T195534Z
LAST-MODIFIED:20251204T200103Z
UID:2185-1765274400-1765278000@botanicacostarica.com
SUMMARY:Cellular Health and Inflammation Workshop
DESCRIPTION:What if your energy\, focus and vitality weren’t a matter of age? Come and discover the secret most people don’t know it even exists! Detect what’s hiding behind the invisible problems with Dr. François \nFree! \nTuesday\, December 9th | 10-11AM \nRegister HERE or email botanicaojochal@gmail.com
URL:https://botanicacostarica.com/event/cellular-health-and-inflammation-workshop/
LOCATION:Puntarenas
CATEGORIES:Health Session,Workshop
ATTACH;FMTTYPE=image/png:https://botanicacostarica.com/wp-content/uploads/2025/12/15.png
END:VEVENT
BEGIN:VEVENT
DTSTART;TZID=UTC:20251205T150000
DTEND;TZID=UTC:20251205T170000
DTSTAMP:20260422T221352
CREATED:20251204T193141Z
LAST-MODIFIED:20251204T194516Z
UID:2182-1764946800-1764954000@botanicacostarica.com
SUMMARY:Habitat Beach Cleanup - Ambiciosas & Innoceana
DESCRIPTION:Join us for a community beach clean-up at Playa Hermosa! We will provide fruits\, hydration and more! Bring your reusable water bottle\, sunscreen & good vibes! \nVoluntary! \nFriday\, December 5th 3-5
URL:https://botanicacostarica.com/event/habitat-beach-cleanup-ambiciosas-innoceana/
LOCATION:Puntarenas
CATEGORIES:Volunteer
ATTACH;FMTTYPE=image/png:https://botanicacostarica.com/wp-content/uploads/2025/12/14.png
END:VEVENT
BEGIN:VEVENT
DTSTART;TZID=UTC:20251129T140000
DTEND;TZID=UTC:20251129T150000
DTSTAMP:20260422T221352
CREATED:20251111T181152Z
LAST-MODIFIED:20251111T181513Z
UID:2017-1764424800-1764428400@botanicacostarica.com
SUMMARY:Silver Strenght Startup | Morty
DESCRIPTION:Join us for an energizing and supportive session designed to awaken body confidence\, balance\, and vitality at every age. \nThrough mindful movement\, breath\, and connection\, we’ll celebrate strength\, grace\, and renewal. \nSaturday\, November 29th\, 2-3 PM | $10 per person \nRegister HERE or email botanicaojochal@gmail.com
URL:https://botanicacostarica.com/event/silver-strength/
LOCATION:Botanica Costa Rica\, Villas Ojochal #2\, Ojochal\, Puntarenas\, Costa Rica
CATEGORIES:Movement and Exercise
ATTACH;FMTTYPE=image/png:https://botanicacostarica.com/wp-content/uploads/2025/11/botanica-november-4.png
END:VEVENT
BEGIN:VEVENT
DTSTART;TZID=UTC:20251126T100000
DTEND;TZID=UTC:20251126T113000
DTSTAMP:20260422T221352
CREATED:20251111T180533Z
LAST-MODIFIED:20251111T180710Z
UID:2013-1764151200-1764156600@botanicacostarica.com
SUMMARY:Embodied Power I Rose & Cacao | Julie
DESCRIPTION:A heart-opening journey through movement\, presence\, and sacred plant allies. Together we’ll sip cacao\, connect through the softness of rose\, and explore practices that root us in the body and awaken feminine strength. \nWednesday\, November 26th\, 10-11:30 AM | $15 per person \nRegister HERE or email botanicaojochal@gmail.com
URL:https://botanicacostarica.com/event/embodied-power-i-rose-cacao-julie-2/
LOCATION:Botanica Costa Rica\, Villas Ojochal #2\, Ojochal\, Puntarenas\, Costa Rica
CATEGORIES:Food and Beverage,Health Session,Movement and Exercise
ATTACH;FMTTYPE=image/png:https://botanicacostarica.com/wp-content/uploads/2025/11/botanica-november-3.png
END:VEVENT
BEGIN:VEVENT
DTSTART;TZID=UTC:20251124T090000
DTEND;TZID=UTC:20251124T100000
DTSTAMP:20260422T221352
CREATED:20251111T174558Z
LAST-MODIFIED:20251111T174558Z
UID:2005-1763974800-1763978400@botanicacostarica.com
SUMMARY:Pilates Morning! | Athena
DESCRIPTION:Pilates is a mind-body exercise system that strengthens the core\, improves flexibility\, posture\, and balance through a series of controlled movements. Join us! \nmonday\, November 24th\, 9-10 AM | Donation Based \nRegister HERE or email botanicaojochal@gmail.com
URL:https://botanicacostarica.com/event/pilates-morning-athena/
LOCATION:Botanica Costa Rica\, Villas Ojochal #2\, Ojochal\, Puntarenas\, Costa Rica
CATEGORIES:Movement and Exercise
ATTACH;FMTTYPE=image/png:https://botanicacostarica.com/wp-content/uploads/2025/11/botanica-november-2.png
END:VEVENT
BEGIN:VEVENT
DTSTART;TZID=UTC:20251121T143000
DTEND;TZID=UTC:20251121T163000
DTSTAMP:20260422T221352
CREATED:20251111T173840Z
LAST-MODIFIED:20251111T174148Z
UID:2001-1763735400-1763742600@botanicacostarica.com
SUMMARY:Poetry Afternoon with Lismar
DESCRIPTION:A soulful workshop embracing the heart’s power inspiration where we’ll explore healing tools for opening the heart and create poetry that nurtures\, loves & inspires. \nNovember 21st\, 2:30-4:30 PM | $15 per person \nRegister HERE or email botanicaojochal@gmail.com
URL:https://botanicacostarica.com/event/poetry-afternoon-with-lismar/
LOCATION:Botanica Costa Rica\, Villas Ojochal #2\, Ojochal\, Puntarenas\, Costa Rica
CATEGORIES:Workshop
ATTACH;FMTTYPE=image/png:https://botanicacostarica.com/wp-content/uploads/2025/11/botanica-november-1.png
END:VEVENT
BEGIN:VEVENT
DTSTART;TZID=UTC:20251120T100000
DTEND;TZID=UTC:20251120T110000
DTSTAMP:20260422T221352
CREATED:20251111T173436Z
LAST-MODIFIED:20251111T173436Z
UID:1998-1763632800-1763636400@botanicacostarica.com
SUMMARY:Macrame Workshop | Priscilla
DESCRIPTION:Join us for a cozy macramé workshop where you’ll learn the art of knotting and create your own handmade keychain. No experience needed—all materials provided. Come craft\, relax\, and connect! \nNovember 20th\, 10-11 AM| $15 per person \nRegister HERE or email botanicaojochal@gmail.com \n 
URL:https://botanicacostarica.com/event/macrame-workshop-priscilla/
LOCATION:Botanica Costa Rica\, Villas Ojochal #2\, Ojochal\, Puntarenas\, Costa Rica
CATEGORIES:Arts and Crafts,Workshop
ATTACH;FMTTYPE=image/png:https://botanicacostarica.com/wp-content/uploads/2025/11/botanica-november.png
END:VEVENT
END:VCALENDAR