BEGIN:VCALENDAR
VERSION:2.0
PRODID:-//Botanica - ECPv6.15.20//NONSGML v1.0//EN
CALSCALE:GREGORIAN
METHOD:PUBLISH
X-ORIGINAL-URL:https://botanicacostarica.com
X-WR-CALDESC:Events for Botanica
REFRESH-INTERVAL;VALUE=DURATION:PT1H
X-Robots-Tag:noindex
X-PUBLISHED-TTL:PT1H
BEGIN:VTIMEZONE
TZID:UTC
BEGIN:STANDARD
TZOFFSETFROM:+0000
TZOFFSETTO:+0000
TZNAME:UTC
DTSTART:20250101T000000
END:STANDARD
END:VTIMEZONE
BEGIN:VEVENT
DTSTART;TZID=UTC:20260428T100000
DTEND;TZID=UTC:20260428T110000
DTSTAMP:20260422T221305
CREATED:20260402T192453Z
LAST-MODIFIED:20260402T192453Z
UID:4213-1777370400-1777374000@botanicacostarica.com
SUMMARY:Live MOLD FREE with Maxine Guzmán
DESCRIPTION:Yes\, mold is everywhere in the tropics but come to learn simple and easy ways to keep it from taking over your life\, health\, and home. \nTuesday\, April 28th 10:00 – 11:00 AM | Donation Based! \nFree \nRegister HERE or email botanicaojochal@gmail.com
URL:https://botanicacostarica.com/event/live-mold-free-with-maxine-guzman-2/
LOCATION:Botanica Costa Rica\, Villas Ojochal #2\, Ojochal\, Puntarenas\, Costa Rica
CATEGORIES:Health Session
ATTACH;FMTTYPE=image/png:https://botanicacostarica.com/wp-content/uploads/2025/11/November-18th-3-4-PM-12-per-person-Register-HERE-or-email-botanicaojochal@gmail.com_-1.png
END:VEVENT
BEGIN:VEVENT
DTSTART;TZID=UTC:20260428T100000
DTEND;TZID=UTC:20260428T120000
DTSTAMP:20260422T221305
CREATED:20260402T055002Z
LAST-MODIFIED:20260402T055857Z
UID:4170-1777370400-1777377600@botanicacostarica.com
SUMMARY:Weekly Holistic Nutrition Consultations - April 28th
DESCRIPTION:Free weekly holistic nutrition consultations with in-house nutritionist Anna McMahon\, CNP \nLooking for personalized support on your health journey? Receive a free 15-minute consultation on nutrition\, lifestyle\, and herbal insights tailored to your needs and health goals. \nEvery Tuesday | 10:00 AM – 12:00 PM \nFREE \nRegister HERE or email botanicaojochal@gmail.com
URL:https://botanicacostarica.com/event/weekly-holistic-nutrition-consultations-april-28th/
LOCATION:Botanica Costa Rica\, Villas Ojochal #2\, Ojochal\, Puntarenas\, Costa Rica
CATEGORIES:Health Session
ATTACH;FMTTYPE=image/png:https://botanicacostarica.com/wp-content/uploads/2026/02/botanica-december-3.png
END:VEVENT
BEGIN:VEVENT
DTSTART;TZID=UTC:20260430T160000
DTEND;TZID=UTC:20260430T180000
DTSTAMP:20260422T221305
CREATED:20260402T060334Z
LAST-MODIFIED:20260402T060334Z
UID:4188-1777564800-1777572000@botanicacostarica.com
SUMMARY:Weekly Tarot Readings | The Archtypal Heroic Journey w/ Carolina
DESCRIPTION:Evolutionary\, therapeutic\, tarot readings that reveal your archetypes\, illuminate your process\, and offer resolution and healing. \nEvery Thursday | 4 – 6 PM \nDrop-ins or by appointment\, preferably. Sliding scale depending on spread from $50 usd to $80 for a full spread lasting 1.5 hrs. \nCarolina is also offering readings by appointment on any other days. \nRegister HERE or email botanicaojochal@gmail.com
URL:https://botanicacostarica.com/event/weekly-tarot-readings-the-archtypal-heroic-journey-w-carolina-9/
LOCATION:Botanica Costa Rica\, Villas Ojochal #2\, Ojochal\, Puntarenas\, Costa Rica
CATEGORIES:Tarot
ATTACH;FMTTYPE=image/png:https://botanicacostarica.com/wp-content/uploads/2026/02/botanica-december-3-1.png
END:VEVENT
BEGIN:VEVENT
DTSTART;TZID=UTC:20260505T100000
DTEND;TZID=UTC:20260505T120000
DTSTAMP:20260422T221305
CREATED:20260402T055055Z
LAST-MODIFIED:20260402T055953Z
UID:4172-1777975200-1777982400@botanicacostarica.com
SUMMARY:Weekly Holistic Nutrition Consultations - May 5th
DESCRIPTION:Free weekly holistic nutrition consultations with in-house nutritionist Anna McMahon\, CNP \nLooking for personalized support on your health journey? Receive a free 15-minute consultation on nutrition\, lifestyle\, and herbal insights tailored to your needs and health goals. \nEvery Tuesday | 10:00 AM – 12:00 PM \nFREE \nRegister HERE or email botanicaojochal@gmail.com
URL:https://botanicacostarica.com/event/weekly-holistic-nutrition-consultations-may-5th/
LOCATION:Botanica Costa Rica\, Villas Ojochal #2\, Ojochal\, Puntarenas\, Costa Rica
CATEGORIES:Health Session
ATTACH;FMTTYPE=image/png:https://botanicacostarica.com/wp-content/uploads/2026/02/botanica-december-3.png
END:VEVENT
END:VCALENDAR