BEGIN:VCALENDAR
VERSION:2.0
PRODID:-//Botanica - ECPv6.15.20//NONSGML v1.0//EN
CALSCALE:GREGORIAN
METHOD:PUBLISH
X-WR-CALNAME:Botanica
X-ORIGINAL-URL:https://botanicacostarica.com
X-WR-CALDESC:Events for Botanica
REFRESH-INTERVAL;VALUE=DURATION:PT1H
X-Robots-Tag:noindex
X-PUBLISHED-TTL:PT1H
BEGIN:VTIMEZONE
TZID:UTC
BEGIN:STANDARD
TZOFFSETFROM:+0000
TZOFFSETTO:+0000
TZNAME:UTC
DTSTART:20240101T000000
END:STANDARD
END:VTIMEZONE
BEGIN:VEVENT
DTSTART;TZID=UTC:20251020T083000
DTEND;TZID=UTC:20251020T093000
DTSTAMP:20260423T104555
CREATED:20251013T192927Z
LAST-MODIFIED:20251013T193411Z
UID:1837-1760949000-1760952600@botanicacostarica.com
SUMMARY:Community Movement Class
DESCRIPTION:A fun and energizing one-hour workout for women of all fitness levels. Using bodyweight moves\, resistance bands\, and mobility drills. Come ready to stretch\, sweat\, and enjoy a supportive community vibe.\n\nOctober 20th 8:30 AM – 9:30 AM | $15 or $10 for locals\n\n\n\nRegister HERE or email botanicaojochal@gmail.com
URL:https://botanicacostarica.com/event/community-movement-class/
LOCATION:Puntarenas
CATEGORIES:Movement and Exercise
ATTACH;FMTTYPE=image/png:https://botanicacostarica.com/wp-content/uploads/2025/10/Screenshot-2025-10-13-at-3.25.20-PM.png
END:VEVENT
BEGIN:VEVENT
DTSTART;TZID=UTC:20251017T143000
DTEND;TZID=UTC:20251017T163000
DTSTAMP:20260423T104555
CREATED:20251013T195849Z
LAST-MODIFIED:20251013T195849Z
UID:1858-1760711400-1760718600@botanicacostarica.com
SUMMARY:A Journey Through Poetry with Lismar
DESCRIPTION:A soulful workshop embracing the heart’s power inspiration where we’ll explore healing tools for opening the heart and create poetry that nurtures\, loves & inspires. Thursday\, October 17th 2:30 PM – 4:30 PM | $15 \n\n\n\nRegister HERE or email botanicaojochal@gmail.com
URL:https://botanicacostarica.com/event/a-journey-through-poetry-with-lismar-2/
LOCATION:Botanica Costa Rica\, Villas Ojochal #2\, Ojochal\, Puntarenas\, Costa Rica
CATEGORIES:Workshop
ATTACH;FMTTYPE=image/png:https://botanicacostarica.com/wp-content/uploads/2025/09/Screenshot-2025-09-17-at-4.14.17-PM.png
END:VEVENT
BEGIN:VEVENT
DTSTART;TZID=UTC:20251016T100000
DTEND;TZID=UTC:20251016T110000
DTSTAMP:20260423T104555
CREATED:20251013T195315Z
LAST-MODIFIED:20251013T195552Z
UID:1852-1760608800-1760612400@botanicacostarica.com
SUMMARY:Macramé Keychain Afternoon
DESCRIPTION:Join us for a cozy macramé workshop where you’ll learn the art of knotting and create your own handmade keychain. No experience needed – all material provided. Come craft\, relax\, and connect. \nThursday\, October 16th 1-11AM | $15 per person \nRegister HERE or email botanicaojochal@gmail.com
URL:https://botanicacostarica.com/event/macrame-keychain-afternoon/
LOCATION:Puntarenas
CATEGORIES:Arts and Crafts,Workshop
ATTACH;FMTTYPE=image/png:https://botanicacostarica.com/wp-content/uploads/2025/10/Screenshot-2025-10-13-at-3.54.04-PM.png
END:VEVENT
BEGIN:VEVENT
DTSTART;TZID=UTC:20251014T150000
DTEND;TZID=UTC:20251014T160000
DTSTAMP:20260423T104555
CREATED:20251013T193944Z
LAST-MODIFIED:20251013T194718Z
UID:1845-1760454000-1760457600@botanicacostarica.com
SUMMARY:Kids Workshop | Magical Cacao
DESCRIPTION:Calling all curious kids! Dive into the world of cacao – explore its origins\, taste its forms\, and learn how it’s transformed from bean to treat. A fun\, hands-on journey through culture\, nature\, and chocolate! \nAges 5+ | $12 per person \nOctober 14th\, 3-4 PM \nRegister HERE or email botanicaojochal@gmail.com
URL:https://botanicacostarica.com/event/kids-workshop-cacao/
LOCATION:Botanica Costa Rica\, Villas Ojochal #2\, Ojochal\, Puntarenas\, Costa Rica
CATEGORIES:Food and Beverage,Workshop
ATTACH;FMTTYPE=image/png:https://botanicacostarica.com/wp-content/uploads/2025/10/Screenshot-2025-10-13-at-3.26.13-PM.png
END:VEVENT
BEGIN:VEVENT
DTSTART;TZID=UTC:20250925T143000
DTEND;TZID=UTC:20250925T163000
DTSTAMP:20260423T104555
CREATED:20250917T221141Z
LAST-MODIFIED:20250917T221531Z
UID:1658-1758810600-1758817800@botanicacostarica.com
SUMMARY:A Journey Through Poetry with Lismar
DESCRIPTION:A soulful workshop embracing the heart’s power inspiration where we’ll explore healing tools for opening the heart and create poetry that nurtures\, loves & inspires.\n\nThursday\, September 25th 2:30 PM – 4:30 PM | $15\n\n\n\nRegister HERE or email botanicaojochal@gmail.com
URL:https://botanicacostarica.com/event/a-journey-through-poetry-with-lismar/
LOCATION:Botanica Costa Rica\, Villas Ojochal #2\, Ojochal\, Puntarenas\, Costa Rica
CATEGORIES:Workshop
ATTACH;FMTTYPE=image/png:https://botanicacostarica.com/wp-content/uploads/2025/09/Screenshot-2025-09-17-at-4.14.17-PM.png
END:VEVENT
BEGIN:VEVENT
DTSTART;TZID=UTC:20250924T103000
DTEND;TZID=UTC:20250924T233000
DTSTAMP:20260423T104555
CREATED:20250917T220316Z
LAST-MODIFIED:20250917T220849Z
UID:1653-1758709800-1758756600@botanicacostarica.com
SUMMARY:Herbal Crown Making with Herbolaria Raices
DESCRIPTION:Immerse yourself in the magic of flowers and medicinal plants\, and learn to create your own compostable crowns for your beauty and well-being. \nWednesday\, September 24th\, 10:30 AM – 11:30 AM | $25 \nRegister HERE or email botanicaojochal@gmail.com
URL:https://botanicacostarica.com/event/herbal-crown-making-with-herbolaria-raices/
LOCATION:Puntarenas
CATEGORIES:Arts and Crafts,Workshop
ATTACH;FMTTYPE=image/png:https://botanicacostarica.com/wp-content/uploads/2025/09/Screenshot-2025-09-17-at-4.07.32-PM.png
END:VEVENT
BEGIN:VEVENT
DTSTART;TZID=UTC:20250918T150000
DTEND;TZID=UTC:20250918T160000
DTSTAMP:20260423T104555
CREATED:20250822T010104Z
LAST-MODIFIED:20250918T223435Z
UID:882-1758207600-1758211200@botanicacostarica.com
SUMMARY:The Story Behind "Hierba Mate" w/ Laura Duflos
DESCRIPTION:Join us for a hands-on session exploring the origins of yerba mate\, its traditional uses\, health benefits\, and how to blend it with other herbs. \n\n\n\nThursday\, September 18th 3:00 PM – 4:00 PM | $15 \n\n\n\nRegister HERE or email botanicaojochal@gmail.com
URL:https://botanicacostarica.com/event/the-story-behind-hierba-mate-w-laura-duflos/
LOCATION:Botanica Costa Rica\, Villas Ojochal #2\, Ojochal\, Puntarenas\, Costa Rica
CATEGORIES:Food and Beverage,Workshop
ATTACH;FMTTYPE=image/png:https://botanicacostarica.com/wp-content/uploads/2025/07/Screenshot-2025-07-08-at-12.15.58 PM.png
END:VEVENT
BEGIN:VEVENT
DTSTART;TZID=UTC:20250831T100000
DTEND;TZID=UTC:20250831T170000
DTSTAMP:20260423T104555
CREATED:20250827T034219Z
LAST-MODIFIED:20250827T035923Z
UID:1048-1756634400-1756659600@botanicacostarica.com
SUMMARY:Botanica's First Year Anniversary
DESCRIPTION:🌿✨ BOTÁNICA TURNS ONE ✨🌿 \nOne year ago\, we opened our doors with a prayer: to create a sanctuary of plants\, people\, and spirit in the heart of Ojochal. 🌺 This first year has been beyond what we could have imagined\, and we are deeply grateful to be embraced by this vibrant village and the community that continues to make Botanica come alive. \nJoin us Sunday\, August 31st for a full-day celebration of life\, plants\, and community medicine! Free of charge to attend. Come support INCREDIBLE local artists that are coming to vend at the ‘makers market’\, as well as join some of the classes we are offering free of charge at the rancho of Ojochal Gardens! \n🌞 10-11:30AM | Heart-Opening YOGA with Andrew Sealy (@andrew7sealy) to ground into love and presence\n💧 12-4PM IV THERAPY with Nurse Patri — high-quality mineral infusions (zinc\, magnesium\, vitamin C\, glutathione + more) for deep nourishment; write us via whatsapp to learn about pricing\, questions + to book your session ahead of time.\n💃 2–4PM | DANCE Your Prayers with DJ Aliza Rivka (@aliza.rivka) — move your prayers through rhythm + devotion\n🛍️ 10–5PM | Makers Market featuring sacred cacao from San Vito\, shamanic supplies\, locally made clothing\, entheogenic goods\, textiles + much more \n🌸 Throughout the day:\n🍹 Botanica Mocktails — refreshing herbal elixirs crafted with love at Potz and Momento!\n🍫 Sacred Cacao from @QuantumCacao.cr from San Vito — pure medicine for the heart!\n🥗 Incredible food by our neighbors @potz_oj — nourishing bites from the hands of our village family \nThis is more than an anniversary — it’s a celebration of Ojochal\, of the plants\, and of the community that has rooted us here. Come for one moment or stay for the day… let’s rise\, remember\, and celebrate! \nAND! You get 20% OFF A HUGE SELECTION the day-of for a fabulastic day of shopping and supporting your local makers. \n📍 Botanica | Sunday\, August 31st | All day celebration\n✨ Free entry to the market | Classes + sessions ticketed ✨\n🏨 For those coming from far\, @ojochalgardens hotel is offering a special price for the the night or weekend!
URL:https://botanicacostarica.com/event/botanicas-first-year-anniversary/
LOCATION:Botanica Costa Rica\, Villas Ojochal #2\, Ojochal\, Puntarenas\, Costa Rica
ATTACH;FMTTYPE=image/jpeg:https://botanicacostarica.com/wp-content/uploads/2025/08/WhatsApp-Image-2025-08-26-at-10.53.50-AM.jpeg
END:VEVENT
BEGIN:VEVENT
DTSTART;TZID=UTC:20250218T150000
DTEND;TZID=UTC:20250218T160000
DTSTAMP:20260423T104555
CREATED:20250217T185829Z
LAST-MODIFIED:20250217T185829Z
UID:449-1739890800-1739894400@botanicacostarica.com
SUMMARY:Weekly Kids Herbal Classes
DESCRIPTION:Weekly kids classes are back! Children will create herbal crafts and explore the magic of plants. A hands-on\, nature-filled experience for young minds. \nAges 5+
URL:https://botanicacostarica.com/event/weekly-kids-herbal-classes/
LOCATION:Botanica Costa Rica\, Villas Ojochal #2\, Ojochal\, Puntarenas\, Costa Rica
ATTACH;FMTTYPE=image/jpeg:https://botanicacostarica.com/wp-content/uploads/2024/09/Anima-reshoot-9-2-e1726512426748.jpg
END:VEVENT
END:VCALENDAR