BEGIN:VCALENDAR
VERSION:2.0
PRODID:-//Botanica - ECPv6.15.20//NONSGML v1.0//EN
CALSCALE:GREGORIAN
METHOD:PUBLISH
X-ORIGINAL-URL:https://botanicacostarica.com
X-WR-CALDESC:Events for Botanica
REFRESH-INTERVAL;VALUE=DURATION:PT1H
X-Robots-Tag:noindex
X-PUBLISHED-TTL:PT1H
BEGIN:VTIMEZONE
TZID:UTC
BEGIN:STANDARD
TZOFFSETFROM:+0000
TZOFFSETTO:+0000
TZNAME:UTC
DTSTART:20250101T000000
END:STANDARD
END:VTIMEZONE
BEGIN:VEVENT
DTSTART;TZID=UTC:20260227T103000
DTEND;TZID=UTC:20260227T120000
DTSTAMP:20260422T000811
CREATED:20260202T205024Z
LAST-MODIFIED:20260202T205133Z
UID:3978-1772188200-1772193600@botanicacostarica.com
SUMMARY:Your Sacred Soul Blueprint: An Intro to Gene Keys
DESCRIPTION:Discover the Gene Keys as a soul map revealing the themes your soul signed up to explore in this life. You’ll explore your unique Gene Keys and how to use your Hologenetic Profile as the soul’s blueprint for your spiritual evolution. \nThursday\, Feb 27th | 10:30 AM – 12:00 PM \n$20 per person \nRegister HERE or email botanicaojochal@gmail.com
URL:https://botanicacostarica.com/event/your-sacred-soul-blueprint/
LOCATION:Botanica Costa Rica\, Villas Ojochal #2\, Ojochal\, Puntarenas\, Costa Rica
CATEGORIES:Workshop
ATTACH;FMTTYPE=image/png:https://botanicacostarica.com/wp-content/uploads/2026/02/Screenshot-2026-02-02-at-2.48.11-PM.png
END:VEVENT
END:VCALENDAR