BEGIN:VCALENDAR
VERSION:2.0
PRODID:-//Botanica - ECPv6.15.20//NONSGML v1.0//EN
CALSCALE:GREGORIAN
METHOD:PUBLISH
X-WR-CALNAME:Botanica
X-ORIGINAL-URL:https://botanicacostarica.com
X-WR-CALDESC:Events for Botanica
REFRESH-INTERVAL;VALUE=DURATION:PT1H
X-Robots-Tag:noindex
X-PUBLISHED-TTL:PT1H
BEGIN:VTIMEZONE
TZID:UTC
BEGIN:STANDARD
TZOFFSETFROM:+0000
TZOFFSETTO:+0000
TZNAME:UTC
DTSTART:20250101T000000
END:STANDARD
END:VTIMEZONE
BEGIN:VEVENT
DTSTART;TZID=UTC:20260226T153000
DTEND;TZID=UTC:20260226T173000
DTSTAMP:20260421T210918
CREATED:20260202T204152Z
LAST-MODIFIED:20260219T205710Z
UID:3958-1772119800-1772127000@botanicacostarica.com
SUMMARY:The Heroines Journey | Carolina Mistikal Moon
DESCRIPTION:Drawing from Jungian analysis\, Campbell’s Hero’s Journey\, and the mythopoetic wisdom of Clarissa Pinkola Estés\, this workshop explores The Heroine’s Journey through the lens of Tarot’s Major Arcana and astrological archetypes. \nThursday\, Feb 26th | 3:30 – 5:30 PM \n$20 \nRegister HERE or email botanicaojochal@gmail.com
URL:https://botanicacostarica.com/event/the-heroines-journey/
LOCATION:Botanica Costa Rica\, Villas Ojochal #2\, Ojochal\, Puntarenas\, Costa Rica
CATEGORIES:Workshop
ATTACH;FMTTYPE=image/png:https://botanicacostarica.com/wp-content/uploads/2026/02/heroines-journey.png
END:VEVENT
END:VCALENDAR